BEGIN:VCALENDAR
VERSION:2.0
PRODID:-//Journey Church - ECPv6.15.20//NONSGML v1.0//EN
CALSCALE:GREGORIAN
METHOD:PUBLISH
X-ORIGINAL-URL:https://www.thejourneychurcheffingham.com
X-WR-CALDESC:Events for Journey Church
REFRESH-INTERVAL;VALUE=DURATION:PT1H
X-Robots-Tag:noindex
X-PUBLISHED-TTL:PT1H
BEGIN:VTIMEZONE
TZID:America/Chicago
BEGIN:DAYLIGHT
TZOFFSETFROM:-0600
TZOFFSETTO:-0500
TZNAME:CDT
DTSTART:20240310T080000
END:DAYLIGHT
BEGIN:STANDARD
TZOFFSETFROM:-0500
TZOFFSETTO:-0600
TZNAME:CST
DTSTART:20241103T070000
END:STANDARD
BEGIN:DAYLIGHT
TZOFFSETFROM:-0600
TZOFFSETTO:-0500
TZNAME:CDT
DTSTART:20250309T080000
END:DAYLIGHT
BEGIN:STANDARD
TZOFFSETFROM:-0500
TZOFFSETTO:-0600
TZNAME:CST
DTSTART:20251102T070000
END:STANDARD
BEGIN:DAYLIGHT
TZOFFSETFROM:-0600
TZOFFSETTO:-0500
TZNAME:CDT
DTSTART:20260308T080000
END:DAYLIGHT
BEGIN:STANDARD
TZOFFSETFROM:-0500
TZOFFSETTO:-0600
TZNAME:CST
DTSTART:20261101T070000
END:STANDARD
END:VTIMEZONE
BEGIN:VEVENT
DTSTART;TZID=America/Chicago:20251018T120000
DTEND;TZID=America/Chicago:20251018T130000
DTSTAMP:20260422T165511
CREATED:20250904T151733Z
LAST-MODIFIED:20250904T151835Z
UID:1095-1760788800-1760792400@www.thejourneychurcheffingham.com
SUMMARY:Women's Ministry Meeting
DESCRIPTION:Open to all females 21 and older please bring an appetizer or dessert item for time of the devotional and fellowship. \n 
URL:https://www.thejourneychurcheffingham.com/jc-event/womens-ministry-meeting-2/
LOCATION:Journey Church\, 51 Village Square Mall\, Effingham\, IL\, 62401\, United States
CATEGORIES:Women's Ministry
ATTACH;FMTTYPE=image/png:https://www.thejourneychurcheffingham.com/wp-content/uploads/2025/09/womens-ministry-meeting-2.png
END:VEVENT
BEGIN:VEVENT
DTSTART;TZID=America/Chicago:20250919T060000
DTEND;TZID=America/Chicago:20250921T170000
DTSTAMP:20260422T165511
CREATED:20250721T192926Z
LAST-MODIFIED:20250723T163510Z
UID:839-1758261600-1758474000@www.thejourneychurcheffingham.com
SUMMARY:Ashes To Beauty
DESCRIPTION:Ashes to Beauty weekend is designed for every women 18 years and older. It is about encountering Jesus at the Cross in a new\, personal\, and intimate way. There are 12 Sessions that relate to a woman’s life. Each session will include praise and worship\, personal testimonies\, teachings from God’s perspective\, and a time of reflection. \nJesus paid the ultimate price for you\, His beautiful daughter\, to be free from the chains that bind you\, the strongholds that separate you\, and the sins that trap you. \nNo matter what season of life you are in\, He wants nothing less than to have a loving\, intimate relationship with you\, without barriers that steal the FREEDOM that He Paid for you to have. \n\nCost:\n$167.90 per person. \nRegister at: https://encounterministry.org/ashes-to-beauty
URL:https://www.thejourneychurcheffingham.com/jc-event/ashes-to-beauty/
LOCATION:Kenneth E. Cowan Civic Center\, 500 E. Elm\, Leanon\, MO\, 65536\, United States
CATEGORIES:Women's Ministry
ATTACH;FMTTYPE=image/png:https://www.thejourneychurcheffingham.com/wp-content/uploads/2025/07/atb.png
ORGANIZER;CN="Encounter Ministry":MAILTO:Registration@EncounterMinistry.org
END:VEVENT
BEGIN:VEVENT
DTSTART;TZID=America/Chicago:20250830T120000
DTEND;TZID=America/Chicago:20250830T130000
DTSTAMP:20260422T165511
CREATED:20250827T144741Z
LAST-MODIFIED:20250827T144741Z
UID:1084-1756555200-1756558800@www.thejourneychurcheffingham.com
SUMMARY:Women's Ministry Meeting
DESCRIPTION:Open to all females 18 and older please bring an appetizer or dessert item for time of the devotional and fellowship. \nWhile the women are in their meeting\, we would like to have the men go pack up the boxes in a truck and take them to Angeled Kids Foster Closet & Resale. It is located on the north side of Barnes equipment in the old Harley Davidson building at 1704 S Banker St.\, Effingham\, IL\, United States\, 62401
URL:https://www.thejourneychurcheffingham.com/jc-event/womens-ministry-meeting/
LOCATION:Journey Church\, 51 Village Square Mall\, Effingham\, IL\, 62401\, United States
CATEGORIES:Women's Ministry
ATTACH;FMTTYPE=image/png:https://www.thejourneychurcheffingham.com/wp-content/uploads/2025/08/womens-ministry-meeting.png
END:VEVENT
END:VCALENDAR