BEGIN:VCALENDAR
VERSION:2.0
PRODID:-//Journey Church - ECPv6.15.20//NONSGML v1.0//EN
CALSCALE:GREGORIAN
METHOD:PUBLISH
X-WR-CALNAME:Journey Church
X-ORIGINAL-URL:https://www.thejourneychurcheffingham.com
X-WR-CALDESC:Events for Journey Church
REFRESH-INTERVAL;VALUE=DURATION:PT1H
X-Robots-Tag:noindex
X-PUBLISHED-TTL:PT1H
BEGIN:VTIMEZONE
TZID:America/Chicago
BEGIN:DAYLIGHT
TZOFFSETFROM:-0600
TZOFFSETTO:-0500
TZNAME:CDT
DTSTART:20240310T080000
END:DAYLIGHT
BEGIN:STANDARD
TZOFFSETFROM:-0500
TZOFFSETTO:-0600
TZNAME:CST
DTSTART:20241103T070000
END:STANDARD
BEGIN:DAYLIGHT
TZOFFSETFROM:-0600
TZOFFSETTO:-0500
TZNAME:CDT
DTSTART:20250309T080000
END:DAYLIGHT
BEGIN:STANDARD
TZOFFSETFROM:-0500
TZOFFSETTO:-0600
TZNAME:CST
DTSTART:20251102T070000
END:STANDARD
BEGIN:DAYLIGHT
TZOFFSETFROM:-0600
TZOFFSETTO:-0500
TZNAME:CDT
DTSTART:20260308T080000
END:DAYLIGHT
BEGIN:STANDARD
TZOFFSETFROM:-0500
TZOFFSETTO:-0600
TZNAME:CST
DTSTART:20261101T070000
END:STANDARD
END:VTIMEZONE
BEGIN:VEVENT
DTSTART;TZID=America/Chicago:20250810T100000
DTEND;TZID=America/Chicago:20250810T120000
DTSTAMP:20260424T063918
CREATED:20250721T212320Z
LAST-MODIFIED:20250721T212320Z
UID:911-1754820000-1754827200@www.thejourneychurcheffingham.com
SUMMARY:Sunday Worship
DESCRIPTION:Join us for Sunday Worship at The Journey Church!Everyone is welcome as we come together to celebrate\, grow\, and connect through uplifting music\, relevant teaching\, and authentic community. Whether you’re new to church or have been coming for years\, there’s a place for you here. Come as you are — we can’t wait to see you this Sunday!
URL:https://www.thejourneychurcheffingham.com/jc-event/sunday-worship-4/
LOCATION:Journey Church\, 51 Village Square Mall\, Effingham\, IL\, 62401\, United States
CATEGORIES:Sunday Worship
ATTACH;FMTTYPE=image/png:https://www.thejourneychurcheffingham.com/wp-content/uploads/2025/07/sunday-worship-event.png
END:VEVENT
BEGIN:VEVENT
DTSTART;TZID=America/Chicago:20250803T100000
DTEND;TZID=America/Chicago:20250803T120000
DTSTAMP:20260424T063918
CREATED:20250721T212205Z
LAST-MODIFIED:20250721T212205Z
UID:910-1754215200-1754222400@www.thejourneychurcheffingham.com
SUMMARY:Sunday Worship
DESCRIPTION:Join us for Sunday Worship at The Journey Church!Everyone is welcome as we come together to celebrate\, grow\, and connect through uplifting music\, relevant teaching\, and authentic community. Whether you’re new to church or have been coming for years\, there’s a place for you here. Come as you are — we can’t wait to see you this Sunday!
URL:https://www.thejourneychurcheffingham.com/jc-event/sunday-worship-3/
LOCATION:Journey Church\, 51 Village Square Mall\, Effingham\, IL\, 62401\, United States
CATEGORIES:Sunday Worship
ATTACH;FMTTYPE=image/png:https://www.thejourneychurcheffingham.com/wp-content/uploads/2025/07/sunday-worship-event.png
END:VEVENT
BEGIN:VEVENT
DTSTART;TZID=America/Chicago:20250727T100000
DTEND;TZID=America/Chicago:20250727T120000
DTSTAMP:20260424T063918
CREATED:20250721T174049Z
LAST-MODIFIED:20250721T174049Z
UID:821-1753610400-1753617600@www.thejourneychurcheffingham.com
SUMMARY:Sunday Worship
DESCRIPTION:Come experience authentic worship\, relevant teaching\, and a community that feels like family. Sunday mornings at The Journey Church are all about encountering Jesus\, growing in faith\, and doing life together. \nExpect passionate music\, a message that speaks to everyday life\, and a warm environment where everyone is welcome—whether it’s your first time or your hundredth. \nKids’ ministry available during service.
URL:https://www.thejourneychurcheffingham.com/jc-event/sunday-worship-2/
LOCATION:Journey Church\, 51 Village Square Mall\, Effingham\, IL\, 62401\, United States
CATEGORIES:Sunday Worship
ATTACH;FMTTYPE=image/png:https://www.thejourneychurcheffingham.com/wp-content/uploads/2025/07/sunday-worship-event.png
END:VEVENT
BEGIN:VEVENT
DTSTART;TZID=America/Chicago:20250504T100000
DTEND;TZID=America/Chicago:20250504T233000
DTSTAMP:20260424T063918
CREATED:20250424T172336Z
LAST-MODIFIED:20250721T212749Z
UID:420-1746352800-1746401400@www.thejourneychurcheffingham.com
SUMMARY:Sunday Worship
DESCRIPTION:Join us for Sunday Worship at The Journey Church!Everyone is welcome as we come together to celebrate\, grow\, and connect through uplifting music\, relevant teaching\, and authentic community. Whether you’re new to church or have been coming for years\, there’s a place for you here. Come as you are — we can’t wait to see you this Sunday!
URL:https://www.thejourneychurcheffingham.com/jc-event/sunday-worship/
LOCATION:Journey Church\, 51 Village Square Mall\, Effingham\, IL\, 62401\, United States
CATEGORIES:Sunday Worship
ATTACH;FMTTYPE=image/png:https://www.thejourneychurcheffingham.com/wp-content/uploads/2025/04/Church-Event-Main.png
END:VEVENT
END:VCALENDAR