BEGIN:VCALENDAR
VERSION:2.0
PRODID:-//Journey Church - ECPv6.15.20//NONSGML v1.0//EN
CALSCALE:GREGORIAN
METHOD:PUBLISH
X-WR-CALNAME:Journey Church
X-ORIGINAL-URL:https://www.thejourneychurcheffingham.com
X-WR-CALDESC:Events for Journey Church
REFRESH-INTERVAL;VALUE=DURATION:PT1H
X-Robots-Tag:noindex
X-PUBLISHED-TTL:PT1H
BEGIN:VTIMEZONE
TZID:America/Chicago
BEGIN:DAYLIGHT
TZOFFSETFROM:-0600
TZOFFSETTO:-0500
TZNAME:CDT
DTSTART:20240310T080000
END:DAYLIGHT
BEGIN:STANDARD
TZOFFSETFROM:-0500
TZOFFSETTO:-0600
TZNAME:CST
DTSTART:20241103T070000
END:STANDARD
BEGIN:DAYLIGHT
TZOFFSETFROM:-0600
TZOFFSETTO:-0500
TZNAME:CDT
DTSTART:20250309T080000
END:DAYLIGHT
BEGIN:STANDARD
TZOFFSETFROM:-0500
TZOFFSETTO:-0600
TZNAME:CST
DTSTART:20251102T070000
END:STANDARD
BEGIN:DAYLIGHT
TZOFFSETFROM:-0600
TZOFFSETTO:-0500
TZNAME:CDT
DTSTART:20260308T080000
END:DAYLIGHT
BEGIN:STANDARD
TZOFFSETFROM:-0500
TZOFFSETTO:-0600
TZNAME:CST
DTSTART:20261101T070000
END:STANDARD
END:VTIMEZONE
BEGIN:VEVENT
DTSTART;TZID=America/Chicago:20251017T060000
DTEND;TZID=America/Chicago:20251019T170000
DTSTAMP:20260422T164418
CREATED:20250721T194155Z
LAST-MODIFIED:20250723T163654Z
UID:859-1760680800-1760893200@www.thejourneychurcheffingham.com
SUMMARY:Men's Encounter
DESCRIPTION:Men’s Encounter is a 48 hour weekend\, where men (18 years & older) from all walks of life\, can experience the power and freedom\, paid for by Jesus on the cross. \nThere are 14 different sessions. Each session has a time of praise and worship\, true life testimonies\, teaching from God’s Word and a time of personal reflection.  All teachings and testimonies are spoken by ordinary men who tell of their Encounter with our extraordinary God! \n\n\nMen’s Encounter weekend is life changing and is for every man.\n\n\n\n\nWhether you attend church or not\, if you are a pastor or in ministry\, or maybe you don’t even know if you believe God is real…. \nYou owe it to yourself to take 48 hours and allow Jesus to become alive and real to you. \n\n\n\n\nCome with an open mind and an open heart and see what will happen when you have an Encounter with GOD!\n\nCost:\n$167.90 per person. \nRegister at:  https://encounterministry.org/mens-encounter
URL:https://www.thejourneychurcheffingham.com/jc-event/mens-encounter-2/
LOCATION:Cowan Civic Center\, 500 E Elm Street\, Leanon\, 65020\, United States
CATEGORIES:Men's Ministry
ATTACH;FMTTYPE=image/png:https://www.thejourneychurcheffingham.com/wp-content/uploads/2025/07/mens-encounter-1.png
ORGANIZER;CN="Encounter Ministry":MAILTO:Registration@EncounterMinistry.org
END:VEVENT
BEGIN:VEVENT
DTSTART;TZID=America/Chicago:20250815T060000
DTEND;TZID=America/Chicago:20250817T170000
DTSTAMP:20260422T164418
CREATED:20250721T193539Z
LAST-MODIFIED:20250723T163616Z
UID:851-1755237600-1755450000@www.thejourneychurcheffingham.com
SUMMARY:Men's Encounter
DESCRIPTION:Men’s Encounter is a 48 hour weekend\, where men (18 years & older) from all walks of life\, can experience the power and freedom\, paid for by Jesus on the cross. \nThere are 14 different sessions. Each session has a time of praise and worship\, true life testimonies\, teaching from God’s Word and a time of personal reflection.  All teachings and testimonies are spoken by ordinary men who tell of their Encounter with our extraordinary God! \n\n\nMen’s Encounter weekend is life changing and is for every man.\n\n\n\n\nWhether you attend church or not\, if you are a pastor or in ministry\, or maybe you don’t even know if you believe God is real…. \nYou owe it to yourself to take 48 hours and allow Jesus to become alive and real to you. \n\n\n\n\nCome with an open mind and an open heart and see what will happen when you have an Encounter with GOD!\n\nCost:\n$167.90 per person. \nRegister at:  https://encounterministry.org/mens-encounter
URL:https://www.thejourneychurcheffingham.com/jc-event/mens-encounter/
LOCATION:Cowan Civic Center\, 500 E Elm Street\, Leanon\, 65020\, United States
CATEGORIES:Men's Ministry
ATTACH;FMTTYPE=image/png:https://www.thejourneychurcheffingham.com/wp-content/uploads/2025/07/mens-encounter-1.png
ORGANIZER;CN="Encounter Ministry":MAILTO:Registration@EncounterMinistry.org
END:VEVENT
END:VCALENDAR