BEGIN:VCALENDAR
VERSION:2.0
PRODID:-//Journey Church - ECPv6.15.20//NONSGML v1.0//EN
CALSCALE:GREGORIAN
METHOD:PUBLISH
X-ORIGINAL-URL:https://www.thejourneychurcheffingham.com
X-WR-CALDESC:Events for Journey Church
REFRESH-INTERVAL;VALUE=DURATION:PT1H
X-Robots-Tag:noindex
X-PUBLISHED-TTL:PT1H
BEGIN:VTIMEZONE
TZID:America/Chicago
BEGIN:DAYLIGHT
TZOFFSETFROM:-0600
TZOFFSETTO:-0500
TZNAME:CDT
DTSTART:20240310T080000
END:DAYLIGHT
BEGIN:STANDARD
TZOFFSETFROM:-0500
TZOFFSETTO:-0600
TZNAME:CST
DTSTART:20241103T070000
END:STANDARD
BEGIN:DAYLIGHT
TZOFFSETFROM:-0600
TZOFFSETTO:-0500
TZNAME:CDT
DTSTART:20250309T080000
END:DAYLIGHT
BEGIN:STANDARD
TZOFFSETFROM:-0500
TZOFFSETTO:-0600
TZNAME:CST
DTSTART:20251102T070000
END:STANDARD
BEGIN:DAYLIGHT
TZOFFSETFROM:-0600
TZOFFSETTO:-0500
TZNAME:CDT
DTSTART:20260308T080000
END:DAYLIGHT
BEGIN:STANDARD
TZOFFSETFROM:-0500
TZOFFSETTO:-0600
TZNAME:CST
DTSTART:20261101T070000
END:STANDARD
END:VTIMEZONE
BEGIN:VEVENT
DTSTART;TZID=America/Chicago:20250810T100000
DTEND;TZID=America/Chicago:20250810T120000
DTSTAMP:20260422T170835
CREATED:20250730T215744Z
LAST-MODIFIED:20250730T220024Z
UID:1046-1754820000-1754827200@www.thejourneychurcheffingham.com
SUMMARY:Special Guest Speaker: Reverend Stephen Hammond
DESCRIPTION:🗓 Sunday\, August 10\, 2025🕙 10:00 AM📍 The Journey Church\, Effingham \nJoin us for a powerful morning of worship as we welcome Reverend Stephen Hammond as our special guest speaker. Pastor Hammond brings a passionate\, Christ-centered message that will challenge and encourage your faith. \nWhether you’re a first-time visitor or part of our church family\, we’d love to see you there! \nEveryone is welcome. Come expecting.
URL:https://www.thejourneychurcheffingham.com/jc-event/special-guest-speaker-reverend-stephen-hammond/
LOCATION:Journey Church\, 51 Village Square Mall\, Effingham\, IL\, 62401\, United States
CATEGORIES:Guest Speakers & Special Services
ATTACH;FMTTYPE=image/png:https://www.thejourneychurcheffingham.com/wp-content/uploads/2025/07/Visiting-Pastor-Event-1.png
END:VEVENT
END:VCALENDAR