BEGIN:VCALENDAR
VERSION:2.0
PRODID:-//Journey Church - ECPv6.15.20//NONSGML v1.0//EN
CALSCALE:GREGORIAN
METHOD:PUBLISH
X-ORIGINAL-URL:https://www.thejourneychurcheffingham.com
X-WR-CALDESC:Events for Journey Church
REFRESH-INTERVAL;VALUE=DURATION:PT1H
X-Robots-Tag:noindex
X-PUBLISHED-TTL:PT1H
BEGIN:VTIMEZONE
TZID:America/Chicago
BEGIN:DAYLIGHT
TZOFFSETFROM:-0600
TZOFFSETTO:-0500
TZNAME:CDT
DTSTART:20240310T080000
END:DAYLIGHT
BEGIN:STANDARD
TZOFFSETFROM:-0500
TZOFFSETTO:-0600
TZNAME:CST
DTSTART:20241103T070000
END:STANDARD
BEGIN:DAYLIGHT
TZOFFSETFROM:-0600
TZOFFSETTO:-0500
TZNAME:CDT
DTSTART:20250309T080000
END:DAYLIGHT
BEGIN:STANDARD
TZOFFSETFROM:-0500
TZOFFSETTO:-0600
TZNAME:CST
DTSTART:20251102T070000
END:STANDARD
BEGIN:DAYLIGHT
TZOFFSETFROM:-0600
TZOFFSETTO:-0500
TZNAME:CDT
DTSTART:20260308T080000
END:DAYLIGHT
BEGIN:STANDARD
TZOFFSETFROM:-0500
TZOFFSETTO:-0600
TZNAME:CST
DTSTART:20261101T070000
END:STANDARD
END:VTIMEZONE
BEGIN:VEVENT
DTSTART;TZID=America/Chicago:20250811T180000
DTEND;TZID=America/Chicago:20250811T193000
DTSTAMP:20260424T064657
CREATED:20250721T205900Z
LAST-MODIFIED:20250721T205900Z
UID:889-1754935200-1754940600@www.thejourneychurcheffingham.com
SUMMARY:Celebrate Recovery
DESCRIPTION:Dinner at 6:00 PM | Meeting starts at 6:30 PM\nCelebrate Recovery is a Christ-centered\, 12-step recovery program for anyone struggling with hurts\, habits\, or hang-ups of any kind. Whether you’re battling addiction\, codependency\, grief\, anxiety\, anger\, or past trauma—this is a safe and supportive place to begin healing. \nThrough worship\, teaching\, and small groups\, you’ll find real hope and lasting change in a community that cares. You don’t have to walk this road alone. \nEveryone is welcome. Come as you are.
URL:https://www.thejourneychurcheffingham.com/jc-event/celebrate-recovery-2-2-2/
LOCATION:Journey Church\, 51 Village Square Mall\, Effingham\, IL\, 62401\, United States
CATEGORIES:Celebrate Recovery
ATTACH;FMTTYPE=image/png:https://www.thejourneychurcheffingham.com/wp-content/uploads/2025/07/Celebrate-Recovery-1.png
END:VEVENT
BEGIN:VEVENT
DTSTART;TZID=America/Chicago:20250804T180000
DTEND;TZID=America/Chicago:20250804T193000
DTSTAMP:20260424T064657
CREATED:20250721T205702Z
LAST-MODIFIED:20250721T205702Z
UID:885-1754330400-1754335800@www.thejourneychurcheffingham.com
SUMMARY:Celebrate Recovery
DESCRIPTION:Dinner at 6:00 PM | Meeting starts at 6:30 PM\nCelebrate Recovery is a Christ-centered\, 12-step recovery program for anyone struggling with hurts\, habits\, or hang-ups of any kind. Whether you’re battling addiction\, codependency\, grief\, anxiety\, anger\, or past trauma—this is a safe and supportive place to begin healing. \nThrough worship\, teaching\, and small groups\, you’ll find real hope and lasting change in a community that cares. You don’t have to walk this road alone. \nEveryone is welcome. Come as you are.
URL:https://www.thejourneychurcheffingham.com/jc-event/celebrate-recovery-2-2/
LOCATION:Journey Church\, 51 Village Square Mall\, Effingham\, IL\, 62401\, United States
CATEGORIES:Celebrate Recovery
ATTACH;FMTTYPE=image/png:https://www.thejourneychurcheffingham.com/wp-content/uploads/2025/07/Celebrate-Recovery-1.png
END:VEVENT
BEGIN:VEVENT
DTSTART;TZID=America/Chicago:20250728T180000
DTEND;TZID=America/Chicago:20250728T193000
DTSTAMP:20260424T064657
CREATED:20250721T204832Z
LAST-MODIFIED:20250721T204832Z
UID:883-1753725600-1753731000@www.thejourneychurcheffingham.com
SUMMARY:Celebrate Recovery
DESCRIPTION:Dinner at 6:00 PM | Meeting starts at 6:30 PM\nCelebrate Recovery is a Christ-centered\, 12-step recovery program for anyone struggling with hurts\, habits\, or hang-ups of any kind. Whether you’re battling addiction\, codependency\, grief\, anxiety\, anger\, or past trauma—this is a safe and supportive place to begin healing. \nThrough worship\, teaching\, and small groups\, you’ll find real hope and lasting change in a community that cares. You don’t have to walk this road alone. \nEveryone is welcome. Come as you are.
URL:https://www.thejourneychurcheffingham.com/jc-event/celebrate-recovery-2/
LOCATION:Journey Church\, 51 Village Square Mall\, Effingham\, IL\, 62401\, United States
CATEGORIES:Celebrate Recovery
ATTACH;FMTTYPE=image/png:https://www.thejourneychurcheffingham.com/wp-content/uploads/2025/07/Celebrate-Recovery-1.png
END:VEVENT
BEGIN:VEVENT
DTSTART;TZID=America/Chicago:20250721T180000
DTEND;TZID=America/Chicago:20250721T193000
DTSTAMP:20260424T064657
CREATED:20250721T204718Z
LAST-MODIFIED:20250721T204718Z
UID:877-1753120800-1753126200@www.thejourneychurcheffingham.com
SUMMARY:Celebrate Recovery
DESCRIPTION:Dinner at 6:00 PM | Meeting starts at 6:30 PM\nCelebrate Recovery is a Christ-centered\, 12-step recovery program for anyone struggling with hurts\, habits\, or hang-ups of any kind. Whether you’re battling addiction\, codependency\, grief\, anxiety\, anger\, or past trauma—this is a safe and supportive place to begin healing. \nThrough worship\, teaching\, and small groups\, you’ll find real hope and lasting change in a community that cares. You don’t have to walk this road alone. \nEveryone is welcome. Come as you are.
URL:https://www.thejourneychurcheffingham.com/jc-event/celebrate-recovery/
LOCATION:Journey Church\, 51 Village Square Mall\, Effingham\, IL\, 62401\, United States
CATEGORIES:Celebrate Recovery
ATTACH;FMTTYPE=image/png:https://www.thejourneychurcheffingham.com/wp-content/uploads/2025/07/Celebrate-Recovery-1.png
END:VEVENT
END:VCALENDAR